BEGIN:VCALENDAR
VERSION:2.0
PRODID:SchoolNow
CALSCALE:GREGORIAN
BEGIN:VEVENT
UID:8dc7091a-d9e9-11ef-9200-0a58a9feac02
DTSTAMP:20250124T002420Z
SUMMARY:Track & Field (Girls V) @ NCC Meet
LOCATION:Hobart High School
URL;VALUE=URI:https://www.tricreek.k12.in.us/lhs/calendar/7360754/track-fie
 ld-girls-v-ncc-meet
DTSTART:20250513T220000Z
DTEND:20250514T000000Z
END:VEVENT
END:VCALENDAR
