BEGIN:VCALENDAR
VERSION:2.0
PRODID:SchoolNow
CALSCALE:GREGORIAN
BEGIN:VEVENT
UID:8dc709ec-d9e9-11ef-bf2c-0a58a9feac02
DTSTAMP:20250124T002420Z
SUMMARY:Track & Field (Girls V) @ Deardurff Classic
LOCATION:LaPorte High School
URL;VALUE=URI:https://www.tricreek.k12.in.us/lhs/calendar/7360755/track-fie
 ld-girls-v-deardurff-classic
DTSTART:20250426T150000Z
DTEND:20250426T170000Z
END:VEVENT
END:VCALENDAR
