BEGIN:VCALENDAR
VERSION:2.0
PRODID:SchoolNow
CALSCALE:GREGORIAN
BEGIN:VEVENT
UID:8dc70af0-d9e9-11ef-902e-0a58a9feac02
DTSTAMP:20250124T002420Z
SUMMARY:Track & Field (Girls V) - Hanover Central Jr-Sr High School
LOCATION:Lowell Senior High School
URL;VALUE=URI:https://www.tricreek.k12.in.us/lhs/calendar/7360756/track-fie
 ld-girls-v-hanover-central-jr-sr-high-school
DTSTART:20250506T214500Z
DTEND:20250506T234500Z
END:VEVENT
END:VCALENDAR
