BEGIN:VCALENDAR
VERSION:2.0
PRODID:SchoolNow
CALSCALE:GREGORIAN
BEGIN:VEVENT
UID:8dc70bc2-d9e9-11ef-9781-0a58a9feac02
DTSTAMP:20250124T002420Z
SUMMARY:Track & Field (Girls V) @ Kankakee Valley High School
LOCATION:Kankakee Valley High School
URL;VALUE=URI:https://www.tricreek.k12.in.us/lhs/calendar/7360757/track-fie
 ld-girls-v-kankakee-valley-high-school
DTSTART:20250415T220000Z
DTEND:20250416T000000Z
END:VEVENT
END:VCALENDAR
