BEGIN:VCALENDAR
VERSION:2.0
PRODID:SchoolNow
CALSCALE:GREGORIAN
BEGIN:VEVENT
UID:8dc70d7a-d9e9-11ef-bb15-0a58a9feac02
DTSTAMP:20250124T002420Z
SUMMARY:Soccer (Boys V) - Hanover Central Jr-Sr High School
LOCATION:Lowell Senior High School
URL;VALUE=URI:https://www.tricreek.k12.in.us/lhs/calendar/7360759/soccer-bo
 ys-v-hanover-central-jr-sr-high-school
DTSTART:20250819T233031Z
DTEND:20250820T013031Z
END:VEVENT
END:VCALENDAR
