BEGIN:VCALENDAR
VERSION:2.0
PRODID:SchoolNow
CALSCALE:GREGORIAN
BEGIN:VEVENT
UID:8dc70e4c-d9e9-11ef-b03d-0a58a9feac02
DTSTAMP:20250124T002420Z
SUMMARY:Soccer (Boys V) - Boone Grove High School
LOCATION:Lowell Senior High School
URL;VALUE=URI:https://www.tricreek.k12.in.us/lhs/calendar/7360760/soccer-bo
 ys-v-boone-grove-high-school
DTSTART:20240930T233000Z
DTEND:20241001T013000Z
END:VEVENT
END:VCALENDAR
