BEGIN:VCALENDAR
VERSION:2.0
PRODID:SchoolNow
CALSCALE:GREGORIAN
BEGIN:VEVENT
UID:8dc710cc-d9e9-11ef-acf4-0a58a9feac02
DTSTAMP:20250124T002420Z
SUMMARY:Soccer (Boys V) @ Morgan Township Middle/High School
LOCATION:Morgan Township Middle/High School
URL;VALUE=URI:https://www.tricreek.k12.in.us/lhs/calendar/7360763/soccer-bo
 ys-v-morgan-township-middle-high-school
DTSTART:20250915T230000Z
DTEND:20250916T010000Z
END:VEVENT
END:VCALENDAR
