BEGIN:VCALENDAR
VERSION:2.0
PRODID:SchoolNow
CALSCALE:GREGORIAN
BEGIN:VEVENT
UID:8dc7119e-d9e9-11ef-bde3-0a58a9feac02
DTSTAMP:20250124T002420Z
SUMMARY:CANCELED - Soccer (Boys V) @ East Chicago Central High School
LOCATION:East Chicago Central High School
URL;VALUE=URI:https://www.tricreek.k12.in.us/lhs/calendar/7360764/canceled-
 soccer-boys-v-east-chicago-central-high-school
DTSTART:20241002T233000Z
DTEND:20241003T013000Z
END:VEVENT
END:VCALENDAR
