BEGIN:VCALENDAR
VERSION:2.0
PRODID:SchoolNow
CALSCALE:GREGORIAN
BEGIN:VEVENT
UID:8dc71270-d9e9-11ef-b808-0a58a9feac02
DTSTAMP:20250124T002420Z
SUMMARY:Soccer (Boys V) @ Rensselaer Central High School
LOCATION:Rensselaer Central High School
URL;VALUE=URI:https://www.tricreek.k12.in.us/lhs/calendar/7360765/soccer-bo
 ys-v-rensselaer-central-high-school
DTSTART:20250906T163000Z
DTEND:20250906T183000Z
END:VEVENT
END:VCALENDAR
