BEGIN:VCALENDAR
VERSION:2.0
PRODID:SchoolNow
CALSCALE:GREGORIAN
BEGIN:VEVENT
UID:8dc71342-d9e9-11ef-976a-0a58a9feac02
DTSTAMP:20250124T002420Z
SUMMARY:Soccer (Boys V) @ East Chicago Central High School
LOCATION:East Chicago Central High School
URL;VALUE=URI:https://www.tricreek.k12.in.us/lhs/calendar/7360766/soccer-bo
 ys-v-east-chicago-central-high-school
DTSTART:20241004T233059Z
DTEND:20241005T013059Z
END:VEVENT
END:VCALENDAR
