BEGIN:VCALENDAR
VERSION:2.0
PRODID:SchoolNow
CALSCALE:GREGORIAN
BEGIN:VEVENT
UID:8dc7141e-d9e9-11ef-8348-0a58a9feac02
DTSTAMP:20250124T002420Z
SUMMARY:Soccer (Boys V) - Merrillville High School
LOCATION:Lowell Senior High School
URL;VALUE=URI:https://www.tricreek.k12.in.us/lhs/calendar/7360767/soccer-bo
 ys-v-merrillville-high-school
DTSTART:20250920T170000Z
DTEND:20250920T190000Z
END:VEVENT
END:VCALENDAR
