BEGIN:VCALENDAR
VERSION:2.0
PRODID:SchoolNow
CALSCALE:GREGORIAN
BEGIN:VEVENT
UID:8dc714f0-d9e9-11ef-9e2d-0a58a9feac02
DTSTAMP:20250124T002420Z
SUMMARY:Soccer (Boys V) @ Wheeler HS/Union Township MS
LOCATION:Wheeler HS/Union Township MS
URL;VALUE=URI:https://www.tricreek.k12.in.us/lhs/calendar/7360768/soccer-bo
 ys-v-wheeler-hs-union-township-ms
DTSTART:20250820T223000Z
DTEND:20250821T003000Z
END:VEVENT
END:VCALENDAR
