BEGIN:VCALENDAR
VERSION:2.0
PRODID:SchoolNow
CALSCALE:GREGORIAN
BEGIN:VEVENT
UID:8dc71626-d9e9-11ef-b369-0a58a9feac02
DTSTAMP:20250124T002420Z
SUMMARY:Soccer (Boys V) @ Boone Grove High School
LOCATION:Boone Grove High School
URL;VALUE=URI:https://www.tricreek.k12.in.us/lhs/calendar/7360769/soccer-bo
 ys-v-boone-grove-high-school
DTSTART:20250929T233000Z
DTEND:20250930T013000Z
END:VEVENT
END:VCALENDAR
