BEGIN:VCALENDAR
VERSION:2.0
PRODID:SchoolNow
CALSCALE:GREGORIAN
BEGIN:VEVENT
UID:8dc71d56-d9e9-11ef-8bca-0a58a9feac02
DTSTAMP:20250124T002420Z
SUMMARY:Soccer (Boys V) @ IHSAA Sectional
LOCATION:Kankakee Valley High School
URL;VALUE=URI:https://www.tricreek.k12.in.us/lhs/calendar/7360774/soccer-bo
 ys-v-ihsaa-sectional
DTSTART:20251008T220000Z
DTEND:20251009T000000Z
END:VEVENT
END:VCALENDAR
