BEGIN:VCALENDAR
VERSION:2.0
PRODID:SchoolNow
CALSCALE:GREGORIAN
BEGIN:VEVENT
UID:8dc71f40-d9e9-11ef-8ae4-0a58a9feac02
DTSTAMP:20250124T002420Z
SUMMARY:Soccer (Boys V) - Hobart High School
LOCATION:Lowell Senior High School
URL;VALUE=URI:https://www.tricreek.k12.in.us/lhs/calendar/7360776/soccer-bo
 ys-v-hobart-high-school
DTSTART:20250903T233000Z
DTEND:20250904T013000Z
END:VEVENT
END:VCALENDAR
