BEGIN:VCALENDAR
VERSION:2.0
PRODID:SchoolNow
CALSCALE:GREGORIAN
BEGIN:VEVENT
UID:8dc720f8-d9e9-11ef-b97c-0a58a9feac02
DTSTAMP:20250124T002420Z
SUMMARY:Soccer (Boys V) - Munster High School
LOCATION:Lowell Senior High School
URL;VALUE=URI:https://www.tricreek.k12.in.us/lhs/calendar/7360778/soccer-bo
 ys-v-munster-high-school
DTSTART:20250828T000031Z
DTEND:20250828T020031Z
END:VEVENT
END:VCALENDAR
