BEGIN:VCALENDAR
VERSION:2.0
PRODID:SchoolNow
CALSCALE:GREGORIAN
BEGIN:VEVENT
UID:8dc721de-d9e9-11ef-b448-0a58a9feac02
DTSTAMP:20250124T002420Z
SUMMARY:Soccer (Boys V) @ Andrean
LOCATION:Andrean High School
URL;VALUE=URI:https://www.tricreek.k12.in.us/lhs/calendar/7360779/soccer-bo
 ys-v-andrean
DTSTART:20250924T233000Z
DTEND:20250925T013000Z
END:VEVENT
END:VCALENDAR
