BEGIN:VCALENDAR
VERSION:2.0
PRODID:SchoolNow
CALSCALE:GREGORIAN
BEGIN:VEVENT
UID:8dc722ba-d9e9-11ef-9dfb-0a58a9feac02
DTSTAMP:20250124T002420Z
SUMMARY:Football (Boys JV) - Hobart High School
LOCATION:Lowell Senior High School
URL;VALUE=URI:https://www.tricreek.k12.in.us/lhs/calendar/7360780/football-
 boys-jv-hobart-high-school
DTSTART:20250927T150000Z
DTEND:20250927T170000Z
END:VEVENT
END:VCALENDAR
