BEGIN:VCALENDAR
VERSION:2.0
PRODID:SchoolNow
CALSCALE:GREGORIAN
BEGIN:VEVENT
UID:8dc7238c-d9e9-11ef-8300-0a58a9feac02
DTSTAMP:20250124T002420Z
SUMMARY:Football (Boys JV) @ Munster High School
LOCATION:Munster High School
URL;VALUE=URI:https://www.tricreek.k12.in.us/lhs/calendar/7360781/football-
 boys-jv-munster-high-school
DTSTART:20251011T150000Z
DTEND:20251011T160000Z
END:VEVENT
END:VCALENDAR
