BEGIN:VCALENDAR
VERSION:2.0
PRODID:SchoolNow
CALSCALE:GREGORIAN
BEGIN:VEVENT
UID:8dc72468-d9e9-11ef-97ed-0a58a9feac02
DTSTAMP:20250124T002420Z
SUMMARY:Football (Boys JV) - Kankakee Valley High School
LOCATION:Lowell Senior High School
URL;VALUE=URI:https://www.tricreek.k12.in.us/lhs/calendar/7360782/football-
 boys-jv-kankakee-valley-high-school
DTSTART:20251004T150000Z
DTEND:20251004T170000Z
END:VEVENT
END:VCALENDAR
