BEGIN:VCALENDAR
VERSION:2.0
PRODID:SchoolNow
CALSCALE:GREGORIAN
BEGIN:VEVENT
UID:8dc72544-d9e9-11ef-ab1a-0a58a9feac02
DTSTAMP:20250124T002420Z
SUMMARY:Football (Boys JV) @ Highland High School
LOCATION:Highland High School
URL;VALUE=URI:https://www.tricreek.k12.in.us/lhs/calendar/7360783/football-
 boys-jv-highland-high-school
DTSTART:20250920T150000Z
DTEND:20250920T170000Z
END:VEVENT
END:VCALENDAR
