BEGIN:VCALENDAR
VERSION:2.0
PRODID:SchoolNow
CALSCALE:GREGORIAN
BEGIN:VEVENT
UID:8dc727ce-d9e9-11ef-a416-0a58a9feac02
DTSTAMP:20250124T002420Z
SUMMARY:Football (Boys JV) @ LaPorte High School
LOCATION:LaPorte High School
URL;VALUE=URI:https://www.tricreek.k12.in.us/lhs/calendar/7360786/football-
 boys-jv-laporte-high-school
DTSTART:20250830T150000Z
DTEND:20250830T170000Z
END:VEVENT
END:VCALENDAR
