BEGIN:VCALENDAR
VERSION:2.0
PRODID:SchoolNow
CALSCALE:GREGORIAN
BEGIN:VEVENT
UID:8e31b45e-d9e9-11ef-a5a3-0a58a9feac02
DTSTAMP:20250124T002420Z
SUMMARY:Football (Boys JV) @ Crown Point High School
LOCATION:Crown Point High School
URL;VALUE=URI:https://www.tricreek.k12.in.us/lhs/calendar/7360789/football-
 boys-jv-crown-point-high-school
DTSTART:20250823T150000Z
DTEND:20250823T170000Z
END:VEVENT
END:VCALENDAR
