BEGIN:VCALENDAR
VERSION:2.0
PRODID:SchoolNow
CALSCALE:GREGORIAN
BEGIN:VEVENT
UID:8e31b56c-d9e9-11ef-aa95-0a58a9feac02
DTSTAMP:20250124T002420Z
SUMMARY:Football (Boys JV) - Hanover Central Jr-Sr High School
LOCATION:Lowell Senior High School
URL;VALUE=URI:https://www.tricreek.k12.in.us/lhs/calendar/7360790/football-
 boys-jv-hanover-central-jr-sr-high-school
DTSTART:20250913T150000Z
DTEND:20250913T170000Z
END:VEVENT
END:VCALENDAR
