BEGIN:VCALENDAR
VERSION:2.0
PRODID:SchoolNow
CALSCALE:GREGORIAN
BEGIN:VEVENT
UID:8e31b760-d9e9-11ef-9187-0a58a9feac02
DTSTAMP:20250124T002420Z
SUMMARY:Tennis (Boys V/JV) @ Noblesville Invitational
LOCATION:Noblesville High School
URL;VALUE=URI:https://www.tricreek.k12.in.us/lhs/calendar/7360792/tennis-bo
 ys-v-jv-noblesville-invitational
DTSTART:20250830T130000Z
DTEND:20250830T150000Z
END:VEVENT
END:VCALENDAR
