BEGIN:VCALENDAR
VERSION:2.0
PRODID:SchoolNow
CALSCALE:GREGORIAN
BEGIN:VEVENT
UID:8e31bcf6-d9e9-11ef-a2aa-0a58a9feac02
DTSTAMP:20250124T002420Z
SUMMARY:Tennis (Boys V/JV) - Hanover Central Jr-Sr High School
LOCATION:Lowell Senior High School
URL;VALUE=URI:https://www.tricreek.k12.in.us/lhs/calendar/7360794/tennis-bo
 ys-v-jv-hanover-central-jr-sr-high-school
DTSTART:20250819T210000Z
DTEND:20250819T230000Z
END:VEVENT
END:VCALENDAR
