BEGIN:VCALENDAR
VERSION:2.0
PRODID:SchoolNow
CALSCALE:GREGORIAN
BEGIN:VEVENT
UID:8e31bdf0-d9e9-11ef-a99d-0a58a9feac02
DTSTAMP:20250124T002420Z
SUMMARY:Tennis (Boys V/JV) @ MACY INVITATIONAL
LOCATION:Crawfordsville HS
URL;VALUE=URI:https://www.tricreek.k12.in.us/lhs/calendar/7360795/tennis-bo
 ys-v-jv-macy-invitational
DTSTART:20250906T130000Z
DTEND:20250906T150000Z
END:VEVENT
END:VCALENDAR
