BEGIN:VCALENDAR
VERSION:2.0
PRODID:SchoolNow
CALSCALE:GREGORIAN
BEGIN:VEVENT
UID:8e31beea-d9e9-11ef-82e2-0a58a9feac02
DTSTAMP:20250124T002420Z
SUMMARY:Tennis (Boys V/JV) @ IHSAA Regional
LOCATION:LaPorte High School
URL;VALUE=URI:https://www.tricreek.k12.in.us/lhs/calendar/7360796/tennis-bo
 ys-v-jv-ihsaa-regional
DTSTART:20241019T150015Z
DTEND:20241019T170015Z
END:VEVENT
END:VCALENDAR
