BEGIN:VCALENDAR
VERSION:2.0
PRODID:SchoolNow
CALSCALE:GREGORIAN
BEGIN:VEVENT
UID:8e31bfd0-d9e9-11ef-a9af-0a58a9feac02
DTSTAMP:20250124T002420Z
SUMMARY:Tennis (Boys V/JV) @ Hobart High School
LOCATION:Hobart High School
URL;VALUE=URI:https://www.tricreek.k12.in.us/lhs/calendar/7360797/tennis-bo
 ys-v-jv-hobart-high-school
DTSTART:20250902T214500Z
DTEND:20250902T234500Z
END:VEVENT
END:VCALENDAR
