BEGIN:VCALENDAR
VERSION:2.0
PRODID:SchoolNow
CALSCALE:GREGORIAN
BEGIN:VEVENT
UID:8e31c0b6-d9e9-11ef-a92e-0a58a9feac02
DTSTAMP:20250124T002420Z
SUMMARY:Tennis (Boys V/JV) @ Merrillville High School
LOCATION:Merrillville High School
URL;VALUE=URI:https://www.tricreek.k12.in.us/lhs/calendar/7360798/tennis-bo
 ys-v-jv-merrillville-high-school
DTSTART:20240930T213000Z
DTEND:20240930T233000Z
END:VEVENT
END:VCALENDAR
