BEGIN:VCALENDAR
VERSION:2.0
PRODID:SchoolNow
CALSCALE:GREGORIAN
BEGIN:VEVENT
UID:8e31c19c-d9e9-11ef-8091-0a58a9feac02
DTSTAMP:20250124T002420Z
SUMMARY:Tennis (Boys V/JV) - Munster High School
LOCATION:Lowell Senior High School
URL;VALUE=URI:https://www.tricreek.k12.in.us/lhs/calendar/7360799/tennis-bo
 ys-v-jv-munster-high-school
DTSTART:20250828T213000Z
DTEND:20250828T233000Z
END:VEVENT
END:VCALENDAR
