BEGIN:VCALENDAR
VERSION:2.0
PRODID:SchoolNow
CALSCALE:GREGORIAN
BEGIN:VEVENT
UID:8e31c354-d9e9-11ef-b518-0a58a9feac02
DTSTAMP:20250124T002420Z
SUMMARY:Tennis (Boys V/JV) @ IHSAA Sectional
LOCATION:Crown Point High School
URL;VALUE=URI:https://www.tricreek.k12.in.us/lhs/calendar/7360801/tennis-bo
 ys-v-jv-ihsaa-sectional
DTSTART:20241003T213047Z
DTEND:20241003T233047Z
END:VEVENT
END:VCALENDAR
