BEGIN:VCALENDAR
VERSION:2.0
PRODID:SchoolNow
CALSCALE:GREGORIAN
BEGIN:VEVENT
UID:8e31c430-d9e9-11ef-8d98-0a58a9feac02
DTSTAMP:20250124T002420Z
SUMMARY:Tennis (Boys V/JV) - Valparaiso
LOCATION:Lowell Senior High School
URL;VALUE=URI:https://www.tricreek.k12.in.us/lhs/calendar/7360802/tennis-bo
 ys-v-jv-valparaiso
DTSTART:20250818T214500Z
DTEND:20250818T234500Z
END:VEVENT
END:VCALENDAR
