BEGIN:VCALENDAR
VERSION:2.0
PRODID:SchoolNow
CALSCALE:GREGORIAN
BEGIN:VEVENT
UID:8e31c50c-d9e9-11ef-972d-0a58a9feac02
DTSTAMP:20250124T002420Z
SUMMARY:Tennis (Boys V/JV) - Merrillville High School
LOCATION:Lowell
URL;VALUE=URI:https://www.tricreek.k12.in.us/lhs/calendar/7360803/tennis-bo
 ys-v-jv-merrillville-high-school
DTSTART:20250929T213000Z
DTEND:20250929T233000Z
END:VEVENT
END:VCALENDAR
