BEGIN:VCALENDAR
VERSION:2.0
PRODID:SchoolNow
CALSCALE:GREGORIAN
BEGIN:VEVENT
UID:8e31c5fc-d9e9-11ef-bf76-0a58a9feac02
DTSTAMP:20250124T002420Z
SUMMARY:Tennis (Boys V/JV) - Rensselaer Central High School
LOCATION:Lowell Senior High School
URL;VALUE=URI:https://www.tricreek.k12.in.us/lhs/calendar/7360804/tennis-bo
 ys-v-jv-rensselaer-central-high-school
DTSTART:20250825T220000Z
DTEND:20250826T000000Z
END:VEVENT
END:VCALENDAR
