BEGIN:VCALENDAR
VERSION:2.0
PRODID:SchoolNow
CALSCALE:GREGORIAN
BEGIN:VEVENT
UID:8e31c6d8-d9e9-11ef-b540-0a58a9feac02
DTSTAMP:20250124T002420Z
SUMMARY:Tennis (Boys V/JV) @ Kankakee Valley High School
LOCATION:Kankakee Valley High School
URL;VALUE=URI:https://www.tricreek.k12.in.us/lhs/calendar/7360805/tennis-bo
 ys-v-jv-kankakee-valley-high-school
DTSTART:20250911T214500Z
DTEND:20250911T234500Z
END:VEVENT
END:VCALENDAR
