BEGIN:VCALENDAR
VERSION:2.0
PRODID:SchoolNow
CALSCALE:GREGORIAN
BEGIN:VEVENT
UID:8e31c82c-d9e9-11ef-92fc-0a58a9feac02
DTSTAMP:20250124T002420Z
SUMMARY:Tennis (Boys V/JV) - Lake Central High School
LOCATION:Lowell Senior High School
URL;VALUE=URI:https://www.tricreek.k12.in.us/lhs/calendar/7360806/tennis-bo
 ys-v-jv-lake-central-high-school
DTSTART:20250910T213000Z
DTEND:20250910T233000Z
END:VEVENT
END:VCALENDAR
