BEGIN:VCALENDAR
VERSION:2.0
PRODID:SchoolNow
CALSCALE:GREGORIAN
BEGIN:VEVENT
UID:8e31c980-d9e9-11ef-8591-0a58a9feac02
DTSTAMP:20250124T002420Z
SUMMARY:Tennis (Boys V/JV) @ Eastern Invitational
LOCATION:Eastern Jr & Sr High School
URL;VALUE=URI:https://www.tricreek.k12.in.us/lhs/calendar/7360807/tennis-bo
 ys-v-jv-eastern-invitational
DTSTART:20250927T130000Z
DTEND:20250927T150000Z
END:VEVENT
END:VCALENDAR
