BEGIN:VCALENDAR
VERSION:2.0
PRODID:SchoolNow
CALSCALE:GREGORIAN
BEGIN:VEVENT
UID:8e31cade-d9e9-11ef-9e3e-0a58a9feac02
DTSTAMP:20250124T002420Z
SUMMARY:Tennis (Boys V/JV) - Chesterton High School
LOCATION:Lowell Senior High School
URL;VALUE=URI:https://www.tricreek.k12.in.us/lhs/calendar/7360808/tennis-bo
 ys-v-jv-chesterton-high-school
DTSTART:20250922T211500Z
DTEND:20250922T231500Z
END:VEVENT
END:VCALENDAR
