BEGIN:VCALENDAR
VERSION:2.0
PRODID:SchoolNow
CALSCALE:GREGORIAN
BEGIN:VEVENT
UID:8e31cc32-d9e9-11ef-b355-0a58a9feac02
DTSTAMP:20250124T002420Z
SUMMARY:CANCELED - Tennis (Boys V/JV) - Michigan City High School
LOCATION:Lowell Senior High School
URL;VALUE=URI:https://www.tricreek.k12.in.us/lhs/calendar/7360809/canceled-
 tennis-boys-v-jv-michigan-city-high-school
DTSTART:20240926T213000Z
DTEND:20240926T233000Z
END:VEVENT
END:VCALENDAR
