BEGIN:VCALENDAR
VERSION:2.0
PRODID:SchoolNow
CALSCALE:GREGORIAN
BEGIN:VEVENT
UID:8e31cd2c-d9e9-11ef-a137-0a58a9feac02
DTSTAMP:20250124T002420Z
SUMMARY:Tennis (Boys V/JV) @ Highland High School
LOCATION:Highland High School
URL;VALUE=URI:https://www.tricreek.k12.in.us/lhs/calendar/7360810/tennis-bo
 ys-v-jv-highland-high-school
DTSTART:20250916T220000Z
DTEND:20250917T000000Z
END:VEVENT
END:VCALENDAR
