BEGIN:VCALENDAR
VERSION:2.0
PRODID:SchoolNow
CALSCALE:GREGORIAN
BEGIN:VEVENT
UID:8e31d060-d9e9-11ef-b8ae-0a58a9feac02
DTSTAMP:20250124T002420Z
SUMMARY:Tennis (Boys V/JV) @ Michigan City High School
LOCATION:Michigan City High School
URL;VALUE=URI:https://www.tricreek.k12.in.us/lhs/calendar/7360812/tennis-bo
 ys-v-jv-michigan-city-high-school
DTSTART:20250925T213000Z
DTEND:20250925T233000Z
END:VEVENT
END:VCALENDAR
