BEGIN:VCALENDAR
VERSION:2.0
PRODID:SchoolNow
CALSCALE:GREGORIAN
BEGIN:VEVENT
UID:8e31d146-d9e9-11ef-b91c-0a58a9feac02
DTSTAMP:20250124T002420Z
SUMMARY:CANCELED - Basketball (Girls F) @ Hobart High School
LOCATION:Hobart High School
URL;VALUE=URI:https://www.tricreek.k12.in.us/lhs/calendar/7360813/canceled-
 basketball-girls-f-hobart-high-school
DTSTART:20250116T000000Z
DTEND:20250116T020000Z
END:VEVENT
END:VCALENDAR
