BEGIN:VCALENDAR
VERSION:2.0
PRODID:SchoolNow
CALSCALE:GREGORIAN
BEGIN:VEVENT
UID:8e31d22c-d9e9-11ef-9c4d-0a58a9feac02
DTSTAMP:20250124T002420Z
SUMMARY:Tennis (Girls V/JV) @ Griffith Senior High School
LOCATION:Griffith Senior High School
URL;VALUE=URI:https://www.tricreek.k12.in.us/lhs/calendar/7360814/tennis-gi
 rls-v-jv-griffith-senior-high-school
DTSTART:20250429T213000Z
DTEND:20250429T233000Z
END:VEVENT
END:VCALENDAR
