BEGIN:VCALENDAR
VERSION:2.0
PRODID:SchoolNow
CALSCALE:GREGORIAN
BEGIN:VEVENT
UID:8e31d312-d9e9-11ef-9612-0a58a9feac02
DTSTAMP:20250124T002420Z
SUMMARY:Tennis (Girls V/JV) - Highland High School
URL;VALUE=URI:https://www.tricreek.k12.in.us/lhs/calendar/7360815/tennis-gi
 rls-v-jv-highland-high-school
DTSTART:20250428T213003Z
DTEND:20250428T233003Z
END:VEVENT
END:VCALENDAR
