BEGIN:VCALENDAR
VERSION:2.0
PRODID:SchoolNow
CALSCALE:GREGORIAN
BEGIN:VEVENT
UID:8e31d3ee-d9e9-11ef-bcad-0a58a9feac02
DTSTAMP:20250124T002420Z
SUMMARY:Tennis (Girls V/JV) - Crown Point High School
LOCATION:Lowell Senior High School
URL;VALUE=URI:https://www.tricreek.k12.in.us/lhs/calendar/7360816/tennis-gi
 rls-v-jv-crown-point-high-school
DTSTART:20250512T213000Z
DTEND:20250512T233000Z
END:VEVENT
END:VCALENDAR
