BEGIN:VCALENDAR
VERSION:2.0
PRODID:SchoolNow
CALSCALE:GREGORIAN
BEGIN:VEVENT
UID:8e31d4d4-d9e9-11ef-958f-0a58a9feac02
DTSTAMP:20250124T002420Z
SUMMARY:Tennis (Girls V/JV) @ Hobart Invite
LOCATION:Hobart High School
URL;VALUE=URI:https://www.tricreek.k12.in.us/lhs/calendar/7360817/tennis-gi
 rls-v-jv-hobart-invite
DTSTART:20250419T140018Z
DTEND:20250419T160018Z
END:VEVENT
END:VCALENDAR
