BEGIN:VCALENDAR
VERSION:2.0
PRODID:SchoolNow
CALSCALE:GREGORIAN
BEGIN:VEVENT
UID:8e31d68c-d9e9-11ef-a7d3-0a58a9feac02
DTSTAMP:20250124T002420Z
SUMMARY:Tennis (Girls V/JV) - Munster High School
LOCATION:Lowell Senior High School
URL;VALUE=URI:https://www.tricreek.k12.in.us/lhs/calendar/7360819/tennis-gi
 rls-v-jv-munster-high-school
DTSTART:20250417T213000Z
DTEND:20250417T233000Z
END:VEVENT
END:VCALENDAR
