BEGIN:VCALENDAR
VERSION:2.0
PRODID:SchoolNow
CALSCALE:GREGORIAN
BEGIN:VEVENT
UID:8e31d768-d9e9-11ef-9d3f-0a58a9feac02
DTSTAMP:20250124T002420Z
SUMMARY:Tennis (Girls V/JV) - Michigan City High School
LOCATION:Lowell Senior High School
URL;VALUE=URI:https://www.tricreek.k12.in.us/lhs/calendar/7360820/tennis-gi
 rls-v-jv-michigan-city-high-school
DTSTART:20250519T213000Z
DTEND:20250519T233000Z
END:VEVENT
END:VCALENDAR
