BEGIN:VCALENDAR
VERSION:2.0
PRODID:SchoolNow
CALSCALE:GREGORIAN
BEGIN:VEVENT
UID:8e31d844-d9e9-11ef-aae4-0a58a9feac02
DTSTAMP:20250124T002420Z
SUMMARY:Tennis (Girls V/JV) @ Merrillville High School
LOCATION:Merrillville High School
URL;VALUE=URI:https://www.tricreek.k12.in.us/lhs/calendar/7360821/tennis-gi
 rls-v-jv-merrillville-high-school
DTSTART:20250421T213000Z
DTEND:20250421T233000Z
END:VEVENT
END:VCALENDAR
